BEGIN:VCALENDAR
VERSION:2.0
PRODID:-//Goldgrube//myauktion.com//AT
CALSCALE:GREGORIAN
BEGIN:VEVENT
DTSTART:20260504T101700
DTEND:20260504T101730
LOCATION:Gewerbepark 13, 8562 Mooskirchen
DTSTAMP:20260421T003830
SUMMARY:MyAuktion: Ablauf Artikel Nr. 963410 Solognag Gummistiefel 41/42
URL;VALUE=URI:https://www.myauktion.com/versteigerung7649-position2440878-solognag-gummistiefel-41-42.php
DESCRIPTION:
UID:myauktion-7649-2440878
BEGIN:VALARM
ACTION:DISPLAY
DESCRIPTION:
TRIGGER:-PT10M
END:VALARM
END:VEVENT
END:VCALENDAR