BEGIN:VCALENDAR
VERSION:2.0
PRODID:-//Goldgrube//myauktion.com//AT
CALSCALE:GREGORIAN
BEGIN:VEVENT
DTSTART:20260504T101900
DTEND:20260504T101930
LOCATION:Gewerbepark 13, 8562 Mooskirchen
DTSTAMP:20260421T003831
SUMMARY:MyAuktion: Ablauf Artikel Nr. 963414 Schwarze Stiefel mit Reißverschluss
URL;VALUE=URI:https://www.myauktion.com/versteigerung7649-position2440880-schwarze-stiefel-mit-reissverschluss.php
DESCRIPTION:Größe 44
UID:myauktion-7649-2440880
BEGIN:VALARM
ACTION:DISPLAY
DESCRIPTION:Größe 44
TRIGGER:-PT10M
END:VALARM
END:VEVENT
END:VCALENDAR