BEGIN:VCALENDAR
VERSION:2.0
PRODID:-//Goldgrube//myauktion.com//AT
CALSCALE:GREGORIAN
BEGIN:VEVENT
DTSTART:20260504T102000
DTEND:20260504T102030
LOCATION:Gewerbepark 13, 8562 Mooskirchen
DTSTAMP:20260421T003829
SUMMARY:MyAuktion: Ablauf Artikel Nr. 963416 Reflexan Stiefeletten
URL;VALUE=URI:https://www.myauktion.com/versteigerung7649-position2440881-reflexan-stiefeletten.php
DESCRIPTION:Größe 40
UID:myauktion-7649-2440881
BEGIN:VALARM
ACTION:DISPLAY
DESCRIPTION:Größe 40
TRIGGER:-PT10M
END:VALARM
END:VEVENT
END:VCALENDAR