BEGIN:VCALENDAR
VERSION:2.0
PRODID:-//Goldgrube//myauktion.com//AT
CALSCALE:GREGORIAN
BEGIN:VEVENT
DTSTART:20260504T102200
DTEND:20260504T102230
LOCATION:Gewerbepark 13, 8562 Mooskirchen
DTSTAMP:20260421T003832
SUMMARY:MyAuktion: Ablauf Artikel Nr. 963426 Emilio Sarto GINA 01 Stiefeletten mit Blockabsatz
URL;VALUE=URI:https://www.myauktion.com/versteigerung7649-position2440883-emilio-sarto-gina-01-stiefeletten-mit-blockabsatz.php
DESCRIPTION:<div>Farbe: 42 bordeaux  Größe  EU 37</div>
UID:myauktion-7649-2440883
BEGIN:VALARM
ACTION:DISPLAY
DESCRIPTION:<div>Farbe: 42 bordeaux  Größe  EU 37</div>
TRIGGER:-PT10M
END:VALARM
END:VEVENT
END:VCALENDAR