BEGIN:VCALENDAR
VERSION:2.0
PRODID:-//Goldgrube//myauktion.com//AT
CALSCALE:GREGORIAN
BEGIN:VEVENT
DTSTART:20260504T102600
DTEND:20260504T102630
LOCATION:Gewerbepark 13, 8562 Mooskirchen
DTSTAMP:20260421T003836
SUMMARY:MyAuktion: Ablauf Artikel Nr. 963453 Converse A17691C Stiefel
URL;VALUE=URI:https://www.myauktion.com/versteigerung7649-position2440887-converse-a17691c-stiefel.php
DESCRIPTION:Größe 41
UID:myauktion-7649-2440887
BEGIN:VALARM
ACTION:DISPLAY
DESCRIPTION:Größe 41
TRIGGER:-PT10M
END:VALARM
END:VEVENT
END:VCALENDAR