BEGIN:VCALENDAR
VERSION:2.0
PRODID:-//Goldgrube//myauktion.com//AT
CALSCALE:GREGORIAN
BEGIN:VEVENT
DTSTART:20260504T102800
DTEND:20260504T102830
LOCATION:Gewerbepark 13, 8562 Mooskirchen
DTSTAMP:20260421T003832
SUMMARY:MyAuktion: Ablauf Artikel Nr. 963463  L37 Handmade Cowboy-Stiefel braun
URL;VALUE=URI:https://www.myauktion.com/versteigerung7649-position2440889--l37-handmade-cowboy-stiefel-braun.php
DESCRIPTION:Größe 39
UID:myauktion-7649-2440889
BEGIN:VALARM
ACTION:DISPLAY
DESCRIPTION:Größe 39
TRIGGER:-PT10M
END:VALARM
END:VEVENT
END:VCALENDAR