BEGIN:VCALENDAR
VERSION:2.0
PRODID:-//Goldgrube//myauktion.com//AT
CALSCALE:GREGORIAN
BEGIN:VEVENT
DTSTART:20260504T102900
DTEND:20260504T102930
LOCATION:Gewerbepark 13, 8562 Mooskirchen
DTSTAMP:20260421T003831
SUMMARY:MyAuktion: Ablauf Artikel Nr. 963464 Stiefel Weiß Hochhackig
URL;VALUE=URI:https://www.myauktion.com/versteigerung7649-position2440890-stiefel-weiss-hochhackig.php
DESCRIPTION:Größe 37
UID:myauktion-7649-2440890
BEGIN:VALARM
ACTION:DISPLAY
DESCRIPTION:Größe 37
TRIGGER:-PT10M
END:VALARM
END:VEVENT
END:VCALENDAR