BEGIN:VCALENDAR
VERSION:2.0
PRODID:-//Goldgrube//myauktion.com//AT
CALSCALE:GREGORIAN
BEGIN:VEVENT
DTSTART:20260504T103200
DTEND:20260504T103230
LOCATION:Gewerbepark 13, 8562 Mooskirchen
DTSTAMP:20260421T003832
SUMMARY:MyAuktion: Ablauf Artikel Nr. 963474 Hausschuhe
URL;VALUE=URI:https://www.myauktion.com/versteigerung7649-position2440893-hausschuhe.php
DESCRIPTION:Größe 41
UID:myauktion-7649-2440893
BEGIN:VALARM
ACTION:DISPLAY
DESCRIPTION:Größe 41
TRIGGER:-PT10M
END:VALARM
END:VEVENT
END:VCALENDAR