BEGIN:VCALENDAR
VERSION:2.0
PRODID:-//Goldgrube//myauktion.com//AT
CALSCALE:GREGORIAN
BEGIN:VEVENT
DTSTART:20260504T103400
DTEND:20260504T103430
LOCATION:Gewerbepark 13, 8562 Mooskirchen
DTSTAMP:20260421T023001
SUMMARY:MyAuktion: Ablauf Artikel Nr. 963478 Aran Sweater Makers Hausschuhe Filz lila
URL;VALUE=URI:https://www.myauktion.com/versteigerung7649-position2440895-aran-sweater-makers-hausschuhe-filz-lila.php
DESCRIPTION:<div>Größe 39/40</div>
UID:myauktion-7649-2440895
BEGIN:VALARM
ACTION:DISPLAY
DESCRIPTION:<div>Größe 39/40</div>
TRIGGER:-PT10M
END:VALARM
END:VEVENT
END:VCALENDAR