BEGIN:VCALENDAR
VERSION:2.0
PRODID:-//Goldgrube//myauktion.com//AT
CALSCALE:GREGORIAN
BEGIN:VEVENT
DTSTART:20260504T103500
DTEND:20260504T103530
LOCATION:Gewerbepark 13, 8562 Mooskirchen
DTSTAMP:20260421T003832
SUMMARY:MyAuktion: Ablauf Artikel Nr. 963483 Slipper
URL;VALUE=URI:https://www.myauktion.com/versteigerung7649-position2440896-slipper.php
DESCRIPTION:Größe 48
UID:myauktion-7649-2440896
BEGIN:VALARM
ACTION:DISPLAY
DESCRIPTION:Größe 48
TRIGGER:-PT10M
END:VALARM
END:VEVENT
END:VCALENDAR