BEGIN:VCALENDAR
VERSION:2.0
PRODID:-//Goldgrube//myauktion.com//AT
CALSCALE:GREGORIAN
BEGIN:VEVENT
DTSTART:20260504T103600
DTEND:20260504T103630
LOCATION:Gewerbepark 13, 8562 Mooskirchen
DTSTAMP:20260421T001934
SUMMARY:MyAuktion: Ablauf Artikel Nr. 963486 Vivo Barefoot Tracker Winds 10 Obsidian Leather
URL;VALUE=URI:https://www.myauktion.com/versteigerung7649-position2440897-vivo-barefoot-tracker-winds-10-obsidian-leather.php
DESCRIPTION:Größe: 44 EU, 11 US, 10 UK
UID:myauktion-7649-2440897
BEGIN:VALARM
ACTION:DISPLAY
DESCRIPTION:Größe: 44 EU, 11 US, 10 UK
TRIGGER:-PT10M
END:VALARM
END:VEVENT
END:VCALENDAR