BEGIN:VCALENDAR
VERSION:2.0
PRODID:-//Goldgrube//myauktion.com//AT
CALSCALE:GREGORIAN
BEGIN:VEVENT
DTSTART:20260504T103700
DTEND:20260504T103730
LOCATION:Gewerbepark 13, 8562 Mooskirchen
DTSTAMP:20260421T003831
SUMMARY:MyAuktion: Ablauf Artikel Nr. 963493 Puma Speedcat OG Haute Coffee-Frosted Ivory
URL;VALUE=URI:https://www.myauktion.com/versteigerung7649-position2440898-puma-speedcat-og-haute-coffee-frosted-ivory.php
DESCRIPTION:<div>Größe: 36 </div>
UID:myauktion-7649-2440898
BEGIN:VALARM
ACTION:DISPLAY
DESCRIPTION:<div>Größe: 36 </div>
TRIGGER:-PT10M
END:VALARM
END:VEVENT
END:VCALENDAR