BEGIN:VCALENDAR
VERSION:2.0
PRODID:-//Goldgrube//myauktion.com//AT
CALSCALE:GREGORIAN
BEGIN:VEVENT
DTSTART:20260504T104000
DTEND:20260504T104030
LOCATION:Gewerbepark 13, 8562 Mooskirchen
DTSTAMP:20260421T003835
SUMMARY:MyAuktion: Ablauf Artikel Nr. 963516 Raid Stiefeletten
URL;VALUE=URI:https://www.myauktion.com/versteigerung7649-position2440901-raid-stiefeletten.php
DESCRIPTION:Größe 4
UID:myauktion-7649-2440901
BEGIN:VALARM
ACTION:DISPLAY
DESCRIPTION:Größe 4
TRIGGER:-PT10M
END:VALARM
END:VEVENT
END:VCALENDAR