BEGIN:VCALENDAR
VERSION:2.0
PRODID:-//Goldgrube//myauktion.com//AT
CALSCALE:GREGORIAN
BEGIN:VEVENT
DTSTART:20260504T104200
DTEND:20260504T104230
LOCATION:Gewerbepark 13, 8562 Mooskirchen
DTSTAMP:20260421T003834
SUMMARY:MyAuktion: Ablauf Artikel Nr. 963524 adidas Samba OG Sneakers
URL;VALUE=URI:https://www.myauktion.com/versteigerung7649-position2440903-adidas-samba-og-sneakers.php
DESCRIPTION:US Größe: 14, UK Größe: 13½, EU Größe: 49⅓
UID:myauktion-7649-2440903
BEGIN:VALARM
ACTION:DISPLAY
DESCRIPTION:US Größe: 14, UK Größe: 13½, EU Größe: 49⅓
TRIGGER:-PT10M
END:VALARM
END:VEVENT
END:VCALENDAR