BEGIN:VCALENDAR
VERSION:2.0
PRODID:-//Goldgrube//myauktion.com//AT
CALSCALE:GREGORIAN
BEGIN:VEVENT
DTSTART:20260504T104300
DTEND:20260504T104330
LOCATION:Gewerbepark 13, 8562 Mooskirchen
DTSTAMP:20260421T003836
SUMMARY:MyAuktion: Ablauf Artikel Nr. 963528 Gabor Sneaker weiß/flame 63.210.25
URL;VALUE=URI:https://www.myauktion.com/versteigerung7649-position2440904-gabor-sneaker-weiss-flame-6321025.php
DESCRIPTION:Größe39
UID:myauktion-7649-2440904
BEGIN:VALARM
ACTION:DISPLAY
DESCRIPTION:Größe39
TRIGGER:-PT10M
END:VALARM
END:VEVENT
END:VCALENDAR