BEGIN:VCALENDAR
VERSION:2.0
PRODID:-//Goldgrube//myauktion.com//AT
CALSCALE:GREGORIAN
BEGIN:VEVENT
DTSTART:20260504T104400
DTEND:20260504T104430
LOCATION:Gewerbepark 13, 8562 Mooskirchen
DTSTAMP:20260421T003834
SUMMARY:MyAuktion: Ablauf Artikel Nr. 963532 Jomos Lammfellstiefel 35514
URL;VALUE=URI:https://www.myauktion.com/versteigerung7649-position2440905-jomos-lammfellstiefel-35514.php
DESCRIPTION:Größe: 44
UID:myauktion-7649-2440905
BEGIN:VALARM
ACTION:DISPLAY
DESCRIPTION:Größe: 44
TRIGGER:-PT10M
END:VALARM
END:VEVENT
END:VCALENDAR