BEGIN:VCALENDAR
VERSION:2.0
PRODID:-//Goldgrube//myauktion.com//AT
CALSCALE:GREGORIAN
BEGIN:VEVENT
DTSTART:20260504T104500
DTEND:20260504T104530
LOCATION:Gewerbepark 13, 8562 Mooskirchen
DTSTAMP:20260421T003835
SUMMARY:MyAuktion: Ablauf Artikel Nr. 963534 Blackrock Dealer Boot Chelsea-Stil
URL;VALUE=URI:https://www.myauktion.com/versteigerung7649-position2440906-blackrock-dealer-boot-chelsea-stil.php
DESCRIPTION:<div>Größe 36</div>
UID:myauktion-7649-2440906
BEGIN:VALARM
ACTION:DISPLAY
DESCRIPTION:<div>Größe 36</div>
TRIGGER:-PT10M
END:VALARM
END:VEVENT
END:VCALENDAR