BEGIN:VCALENDAR
VERSION:2.0
PRODID:-//Goldgrube//myauktion.com//AT
CALSCALE:GREGORIAN
BEGIN:VEVENT
DTSTART:20260504T104600
DTEND:20260504T104630
LOCATION:Gewerbepark 13, 8562 Mooskirchen
DTSTAMP:20260421T003835
SUMMARY:MyAuktion: Ablauf Artikel Nr. 963537 Jomos Lammfellstiefel
URL;VALUE=URI:https://www.myauktion.com/versteigerung7649-position2440907-jomos-lammfellstiefel.php
DESCRIPTION:Größe 44
UID:myauktion-7649-2440907
BEGIN:VALARM
ACTION:DISPLAY
DESCRIPTION:Größe 44
TRIGGER:-PT10M
END:VALARM
END:VEVENT
END:VCALENDAR