BEGIN:VCALENDAR
VERSION:2.0
PRODID:-//Goldgrube//myauktion.com//AT
CALSCALE:GREGORIAN
BEGIN:VEVENT
DTSTART:20260504T104800
DTEND:20260504T104830
LOCATION:Gewerbepark 13, 8562 Mooskirchen
DTSTAMP:20260421T003835
SUMMARY:MyAuktion: Ablauf Artikel Nr. 963541 Lawrence Grey Sandalen
URL;VALUE=URI:https://www.myauktion.com/versteigerung7649-position2440909-lawrence-grey-sandalen.php
DESCRIPTION:Größe 41
UID:myauktion-7649-2440909
BEGIN:VALARM
ACTION:DISPLAY
DESCRIPTION:Größe 41
TRIGGER:-PT10M
END:VALARM
END:VEVENT
END:VCALENDAR