BEGIN:VCALENDAR
VERSION:2.0
PRODID:-//Goldgrube//myauktion.com//AT
CALSCALE:GREGORIAN
BEGIN:VEVENT
DTSTART:20260504T105400
DTEND:20260504T105430
LOCATION:Gewerbepark 13, 8562 Mooskirchen
DTSTAMP:20260421T003833
SUMMARY:MyAuktion: Ablauf Artikel Nr. 963556 Puma Flyer Lite 3 Schwarz/Rosa
URL;VALUE=URI:https://www.myauktion.com/versteigerung7649-position2440915-puma-flyer-lite-3-schwarz-rosa.php
DESCRIPTION:<div>Größe: 44 </div>
UID:myauktion-7649-2440915
BEGIN:VALARM
ACTION:DISPLAY
DESCRIPTION:<div>Größe: 44 </div>
TRIGGER:-PT10M
END:VALARM
END:VEVENT
END:VCALENDAR