BEGIN:VCALENDAR
VERSION:2.0
PRODID:-//Goldgrube//myauktion.com//AT
CALSCALE:GREGORIAN
BEGIN:VEVENT
DTSTART:20260504T105500
DTEND:20260504T105530
LOCATION:Gewerbepark 13, 8562 Mooskirchen
DTSTAMP:20260421T003834
SUMMARY:MyAuktion: Ablauf Artikel Nr. 963564 Dansport Sandalen
URL;VALUE=URI:https://www.myauktion.com/versteigerung7649-position2440916-dansport-sandalen.php
DESCRIPTION:Größe 5
UID:myauktion-7649-2440916
BEGIN:VALARM
ACTION:DISPLAY
DESCRIPTION:Größe 5
TRIGGER:-PT10M
END:VALARM
END:VEVENT
END:VCALENDAR