BEGIN:VCALENDAR
VERSION:2.0
PRODID:-//Goldgrube//myauktion.com//AT
CALSCALE:GREGORIAN
BEGIN:VEVENT
DTSTART:20260504T105700
DTEND:20260504T105730
LOCATION:Gewerbepark 13, 8562 Mooskirchen
DTSTAMP:20260421T003834
SUMMARY:MyAuktion: Ablauf Artikel Nr. 964438 Sneaker
URL;VALUE=URI:https://www.myauktion.com/versteigerung7649-position2440918-sneaker.php
DESCRIPTION:Größe 40
UID:myauktion-7649-2440918
BEGIN:VALARM
ACTION:DISPLAY
DESCRIPTION:Größe 40
TRIGGER:-PT10M
END:VALARM
END:VEVENT
END:VCALENDAR