BEGIN:VCALENDAR
VERSION:2.0
PRODID:-//Goldgrube//myauktion.com//AT
CALSCALE:GREGORIAN
BEGIN:VEVENT
DTSTART:20260504T110000
DTEND:20260504T110030
LOCATION:Gewerbepark 13, 8562 Mooskirchen
DTSTAMP:20260421T003831
SUMMARY:MyAuktion: Ablauf Artikel Nr. 964446 camel active Schuhe 702
URL;VALUE=URI:https://www.myauktion.com/versteigerung7649-position2440921-camel-active-schuhe-702.php
DESCRIPTION:Größe: 44
UID:myauktion-7649-2440921
BEGIN:VALARM
ACTION:DISPLAY
DESCRIPTION:Größe: 44
TRIGGER:-PT10M
END:VALARM
END:VEVENT
END:VCALENDAR