BEGIN:VCALENDAR
VERSION:2.0
PRODID:-//Goldgrube//myauktion.com//AT
CALSCALE:GREGORIAN
BEGIN:VEVENT
DTSTART:20260504T110100
DTEND:20260504T110130
LOCATION:Gewerbepark 13, 8562 Mooskirchen
DTSTAMP:20260421T003835
SUMMARY:MyAuktion: Ablauf Artikel Nr. 964447 NA-KD Sandalen
URL;VALUE=URI:https://www.myauktion.com/versteigerung7649-position2440922-na-kd-sandalen.php
DESCRIPTION:Größe 37
UID:myauktion-7649-2440922
BEGIN:VALARM
ACTION:DISPLAY
DESCRIPTION:Größe 37
TRIGGER:-PT10M
END:VALARM
END:VEVENT
END:VCALENDAR