BEGIN:VCALENDAR
VERSION:2.0
PRODID:-//Goldgrube//myauktion.com//AT
CALSCALE:GREGORIAN
BEGIN:VEVENT
DTSTART:20260504T091700
DTEND:20260504T091730
LOCATION:Gewerbepark 13, 8562 Mooskirchen
DTSTAMP:20260420T194903
SUMMARY:MyAuktion: Ablauf Artikel Nr. 956760 Puma Rebound MidSpace Belle Kinderschuhe 
URL;VALUE=URI:https://www.myauktion.com/versteigerung7649-position2440925-puma-rebound-midspace-belle-kinderschuhe.php
DESCRIPTION:Gr. 33 
UID:myauktion-7649-2440925
BEGIN:VALARM
ACTION:DISPLAY
DESCRIPTION:Gr. 33 
TRIGGER:-PT10M
END:VALARM
END:VEVENT
END:VCALENDAR