BEGIN:VCALENDAR
VERSION:2.0
PRODID:-//Goldgrube//myauktion.com//AT
CALSCALE:GREGORIAN
BEGIN:VEVENT
DTSTART:20260504T091800
DTEND:20260504T091830
LOCATION:Gewerbepark 13, 8562 Mooskirchen
DTSTAMP:20260420T194903
SUMMARY:MyAuktion: Ablauf Artikel Nr. 956761 Puma Caven 2.0 Kinderschuhe 
URL;VALUE=URI:https://www.myauktion.com/versteigerung7649-position2440926-puma-caven-20-kinderschuhe.php
DESCRIPTION:Gr. 28 
UID:myauktion-7649-2440926
BEGIN:VALARM
ACTION:DISPLAY
DESCRIPTION:Gr. 28 
TRIGGER:-PT10M
END:VALARM
END:VEVENT
END:VCALENDAR