BEGIN:VCALENDAR
VERSION:2.0
PRODID:-//Goldgrube//myauktion.com//AT
CALSCALE:GREGORIAN
BEGIN:VEVENT
DTSTART:20260504T092000
DTEND:20260504T092030
LOCATION:Gewerbepark 13, 8562 Mooskirchen
DTSTAMP:20260420T194905
SUMMARY:MyAuktion: Ablauf Artikel Nr. 956763 Högl Samtkid-Leder Ballerina 
URL;VALUE=URI:https://www.myauktion.com/versteigerung7649-position2440928-hoegl-samtkid-leder-ballerina.php
DESCRIPTION:Gr. US 11 1/2 
UID:myauktion-7649-2440928
BEGIN:VALARM
ACTION:DISPLAY
DESCRIPTION:Gr. US 11 1/2 
TRIGGER:-PT10M
END:VALARM
END:VEVENT
END:VCALENDAR