BEGIN:VCALENDAR
VERSION:2.0
PRODID:-//Goldgrube//myauktion.com//AT
CALSCALE:GREGORIAN
BEGIN:VEVENT
DTSTART:20260504T092400
DTEND:20260504T092430
LOCATION:Gewerbepark 13, 8562 Mooskirchen
DTSTAMP:20260420T194905
SUMMARY:MyAuktion: Ablauf Artikel Nr. 956767 Tom Tailor Stiefel taupe 
URL;VALUE=URI:https://www.myauktion.com/versteigerung7649-position2440932-tom-tailor-stiefel-taupe.php
DESCRIPTION:Gr. 38 
UID:myauktion-7649-2440932
BEGIN:VALARM
ACTION:DISPLAY
DESCRIPTION:Gr. 38 
TRIGGER:-PT10M
END:VALARM
END:VEVENT
END:VCALENDAR