BEGIN:VCALENDAR
VERSION:2.0
PRODID:-//Goldgrube//myauktion.com//AT
CALSCALE:GREGORIAN
BEGIN:VEVENT
DTSTART:20260504T092800
DTEND:20260504T092830
LOCATION:Gewerbepark 13, 8562 Mooskirchen
DTSTAMP:20260420T194904
SUMMARY:MyAuktion: Ablauf Artikel Nr. 956771 Beck Kinder Turnschuhe 
URL;VALUE=URI:https://www.myauktion.com/versteigerung7649-position2440937-beck-kinder-turnschuhe.php
DESCRIPTION:Gr. 37 
UID:myauktion-7649-2440937
BEGIN:VALARM
ACTION:DISPLAY
DESCRIPTION:Gr. 37 
TRIGGER:-PT10M
END:VALARM
END:VEVENT
END:VCALENDAR