BEGIN:VCALENDAR
VERSION:2.0
PRODID:-//Goldgrube//myauktion.com//AT
CALSCALE:GREGORIAN
BEGIN:VEVENT
DTSTART:20260504T101400
DTEND:20260504T101430
LOCATION:Gewerbepark 13, 8562 Mooskirchen
DTSTAMP:20260421T003833
SUMMARY:MyAuktion: Ablauf Artikel Nr. 956865 U.S.Polo Assn  Byrin001D-BLK 
URL;VALUE=URI:https://www.myauktion.com/versteigerung7649-position2440938-uspolo-assn-byrin001d-blk.php
DESCRIPTION:Gr. 45
UID:myauktion-7649-2440938
BEGIN:VALARM
ACTION:DISPLAY
DESCRIPTION:Gr. 45
TRIGGER:-PT10M
END:VALARM
END:VEVENT
END:VCALENDAR