BEGIN:VCALENDAR
VERSION:2.0
PRODID:-//Goldgrube//myauktion.com//AT
CALSCALE:GREGORIAN
BEGIN:VEVENT
DTSTART:20260504T090600
DTEND:20260504T090630
LOCATION:Gewerbepark 13, 8562 Mooskirchen
DTSTAMP:20260420T190512
SUMMARY:MyAuktion: Ablauf Artikel Nr. 956270 U.S Polo Assn  Steve003A Whi 
URL;VALUE=URI:https://www.myauktion.com/versteigerung7649-position2440950-us-polo-assn-steve003a-whi.php
DESCRIPTION:Gr. 45
UID:myauktion-7649-2440950
BEGIN:VALARM
ACTION:DISPLAY
DESCRIPTION:Gr. 45
TRIGGER:-PT10M
END:VALARM
END:VEVENT
END:VCALENDAR