BEGIN:VCALENDAR
VERSION:2.0
PRODID:-//Goldgrube//myauktion.com//AT
CALSCALE:GREGORIAN
BEGIN:VEVENT
DTSTART:20260504T090700
DTEND:20260504T090730
LOCATION:Gewerbepark 13, 8562 Mooskirchen
DTSTAMP:20260420T194902
SUMMARY:MyAuktion: Ablauf Artikel Nr. 956271 Birkenstock Boston VL/ Shearling 
URL;VALUE=URI:https://www.myauktion.com/versteigerung7649-position2440951-birkenstock-boston-vl--shearling.php
DESCRIPTION:Gr. 40
UID:myauktion-7649-2440951
BEGIN:VALARM
ACTION:DISPLAY
DESCRIPTION:Gr. 40
TRIGGER:-PT10M
END:VALARM
END:VEVENT
END:VCALENDAR