BEGIN:VCALENDAR
VERSION:2.0
PRODID:-//Goldgrube//myauktion.com//AT
CALSCALE:GREGORIAN
BEGIN:VEVENT
DTSTART:20260504T090800
DTEND:20260504T090830
LOCATION:Gewerbepark 13, 8562 Mooskirchen
DTSTAMP:20260420T194902
SUMMARY:MyAuktion: Ablauf Artikel Nr. 956272 Birkenstock Boston BS Mink 
URL;VALUE=URI:https://www.myauktion.com/versteigerung7649-position2440952-birkenstock-boston-bs-mink.php
DESCRIPTION:Gr.39
UID:myauktion-7649-2440952
BEGIN:VALARM
ACTION:DISPLAY
DESCRIPTION:Gr.39
TRIGGER:-PT10M
END:VALARM
END:VEVENT
END:VCALENDAR