BEGIN:VCALENDAR
VERSION:2.0
PRODID:-//Goldgrube//myauktion.com//AT
CALSCALE:GREGORIAN
BEGIN:VEVENT
DTSTART:20260504T090900
DTEND:20260504T090930
LOCATION:Gewerbepark 13, 8562 Mooskirchen
DTSTAMP:20260420T194903
SUMMARY:MyAuktion: Ablauf Artikel Nr. 956273 Slipper
URL;VALUE=URI:https://www.myauktion.com/versteigerung7649-position2440955-slipper.php
DESCRIPTION:Gr. 43
UID:myauktion-7649-2440955
BEGIN:VALARM
ACTION:DISPLAY
DESCRIPTION:Gr. 43
TRIGGER:-PT10M
END:VALARM
END:VEVENT
END:VCALENDAR