BEGIN:VCALENDAR
VERSION:2.0
PRODID:-//Goldgrube//myauktion.com//AT
CALSCALE:GREGORIAN
BEGIN:VEVENT
DTSTART:20260504T093900
DTEND:20260504T093930
LOCATION:Gewerbepark 13, 8562 Mooskirchen
DTSTAMP:20260421T001934
SUMMARY:MyAuktion: Ablauf Artikel Nr. 956782 U.S. Polo Assn. Cody DBL012 
URL;VALUE=URI:https://www.myauktion.com/versteigerung7649-position2440957-us-polo-assn-cody-dbl012.php
DESCRIPTION:Gr. 38 
UID:myauktion-7649-2440957
BEGIN:VALARM
ACTION:DISPLAY
DESCRIPTION:Gr. 38 
TRIGGER:-PT10M
END:VALARM
END:VEVENT
END:VCALENDAR