BEGIN:VCALENDAR
VERSION:2.0
PRODID:-//Goldgrube//myauktion.com//AT
CALSCALE:GREGORIAN
BEGIN:VEVENT
DTSTART:20260504T094000
DTEND:20260504T094030
LOCATION:Gewerbepark 13, 8562 Mooskirchen
DTSTAMP:20260420T194903
SUMMARY:MyAuktion: Ablauf Artikel Nr. 956783 U.S. Polo Assn. Chelsi 
URL;VALUE=URI:https://www.myauktion.com/versteigerung7649-position2440959-us-polo-assn-chelsi.php
DESCRIPTION:Gr. 37 
UID:myauktion-7649-2440959
BEGIN:VALARM
ACTION:DISPLAY
DESCRIPTION:Gr. 37 
TRIGGER:-PT10M
END:VALARM
END:VEVENT
END:VCALENDAR