BEGIN:VCALENDAR
VERSION:2.0
PRODID:-//Goldgrube//myauktion.com//AT
CALSCALE:GREGORIAN
BEGIN:VEVENT
DTSTART:20260504T094100
DTEND:20260504T094130
LOCATION:Gewerbepark 13, 8562 Mooskirchen
DTSTAMP:20260420T194859
SUMMARY:MyAuktion: Ablauf Artikel Nr. 956784 Gabor Caspian Nappa rouge 
URL;VALUE=URI:https://www.myauktion.com/versteigerung7649-position2440961-gabor-caspian-nappa-rouge.php
DESCRIPTION:Gr. UK 5 
UID:myauktion-7649-2440961
BEGIN:VALARM
ACTION:DISPLAY
DESCRIPTION:Gr. UK 5 
TRIGGER:-PT10M
END:VALARM
END:VEVENT
END:VCALENDAR