BEGIN:VCALENDAR
VERSION:2.0
PRODID:-//Goldgrube//myauktion.com//AT
CALSCALE:GREGORIAN
BEGIN:VEVENT
DTSTART:20260504T094300
DTEND:20260504T094330
LOCATION:Gewerbepark 13, 8562 Mooskirchen
DTSTAMP:20260420T194905
SUMMARY:MyAuktion: Ablauf Artikel Nr. 956786 Uss. Polo. Assn Meghan 
URL;VALUE=URI:https://www.myauktion.com/versteigerung7649-position2440964-uss-polo-assn-meghan.php
DESCRIPTION:Gr. 38 
UID:myauktion-7649-2440964
BEGIN:VALARM
ACTION:DISPLAY
DESCRIPTION:Gr. 38 
TRIGGER:-PT10M
END:VALARM
END:VEVENT
END:VCALENDAR