BEGIN:VCALENDAR
VERSION:2.0
PRODID:-//Goldgrube//myauktion.com//AT
CALSCALE:GREGORIAN
BEGIN:VEVENT
DTSTART:20260504T094500
DTEND:20260504T094530
LOCATION:Gewerbepark 13, 8562 Mooskirchen
DTSTAMP:20260420T194904
SUMMARY:MyAuktion: Ablauf Artikel Nr. 956788 Pollini Damen Sneaker 
URL;VALUE=URI:https://www.myauktion.com/versteigerung7649-position2440968-pollini-damen-sneaker.php
DESCRIPTION:Gr. 38 
UID:myauktion-7649-2440968
BEGIN:VALARM
ACTION:DISPLAY
DESCRIPTION:Gr. 38 
TRIGGER:-PT10M
END:VALARM
END:VEVENT
END:VCALENDAR