BEGIN:VCALENDAR
VERSION:2.0
PRODID:-//Goldgrube//myauktion.com//AT
CALSCALE:GREGORIAN
BEGIN:VEVENT
DTSTART:20260504T094700
DTEND:20260504T094730
LOCATION:Gewerbepark 13, 8562 Mooskirchen
DTSTAMP:20260420T194906
SUMMARY:MyAuktion: Ablauf Artikel Nr. 956790 Affenzahn Low Boot Knit Happy Otter Rose 
URL;VALUE=URI:https://www.myauktion.com/versteigerung7649-position2440971-affenzahn-low-boot-knit-happy-otter-rose.php
DESCRIPTION:Gr. 31 
UID:myauktion-7649-2440971
BEGIN:VALARM
ACTION:DISPLAY
DESCRIPTION:Gr. 31 
TRIGGER:-PT10M
END:VALARM
END:VEVENT
END:VCALENDAR