BEGIN:VCALENDAR
VERSION:2.0
PRODID:-//Goldgrube//myauktion.com//AT
CALSCALE:GREGORIAN
BEGIN:VEVENT
DTSTART:20260504T094800
DTEND:20260504T094830
LOCATION:Gewerbepark 13, 8562 Mooskirchen
DTSTAMP:20260420T194904
SUMMARY:MyAuktion: Ablauf Artikel Nr. 956791 Affenzahn Low Boot Knit Happy Otter Rose 
URL;VALUE=URI:https://www.myauktion.com/versteigerung7649-position2440972-affenzahn-low-boot-knit-happy-otter-rose.php
DESCRIPTION:Gr. 30 
UID:myauktion-7649-2440972
BEGIN:VALARM
ACTION:DISPLAY
DESCRIPTION:Gr. 30 
TRIGGER:-PT10M
END:VALARM
END:VEVENT
END:VCALENDAR