BEGIN:VCALENDAR
VERSION:2.0
PRODID:-//Goldgrube//myauktion.com//AT
CALSCALE:GREGORIAN
BEGIN:VEVENT
DTSTART:20260504T094900
DTEND:20260504T094930
LOCATION:Gewerbepark 13, 8562 Mooskirchen
DTSTAMP:20260420T194906
SUMMARY:MyAuktion: Ablauf Artikel Nr. 956792 Lowa Renegade Work II GTX MID 
URL;VALUE=URI:https://www.myauktion.com/versteigerung7649-position2440973-lowa-renegade-work-ii-gtx-mid.php
DESCRIPTION:Gr. 45 
UID:myauktion-7649-2440973
BEGIN:VALARM
ACTION:DISPLAY
DESCRIPTION:Gr. 45 
TRIGGER:-PT10M
END:VALARM
END:VEVENT
END:VCALENDAR