BEGIN:VCALENDAR
VERSION:2.0
PRODID:-//Goldgrube//myauktion.com//AT
CALSCALE:GREGORIAN
BEGIN:VEVENT
DTSTART:20260504T095000
DTEND:20260504T095030
LOCATION:Gewerbepark 13, 8562 Mooskirchen
DTSTAMP:20260420T194905
SUMMARY:MyAuktion: Ablauf Artikel Nr. 956793 Kate Gray Stiefel 
URL;VALUE=URI:https://www.myauktion.com/versteigerung7649-position2440974-kate-gray-stiefel.php
DESCRIPTION:Gr. 41
UID:myauktion-7649-2440974
BEGIN:VALARM
ACTION:DISPLAY
DESCRIPTION:Gr. 41
TRIGGER:-PT10M
END:VALARM
END:VEVENT
END:VCALENDAR