BEGIN:VCALENDAR
VERSION:2.0
PRODID:-//Goldgrube//myauktion.com//AT
CALSCALE:GREGORIAN
BEGIN:VEVENT
DTSTART:20260504T095400
DTEND:20260504T095430
LOCATION:Gewerbepark 13, 8562 Mooskirchen
DTSTAMP:20260421T023003
SUMMARY:MyAuktion: Ablauf Artikel Nr. 956797 Boots 
URL;VALUE=URI:https://www.myauktion.com/versteigerung7649-position2440978-boots.php
DESCRIPTION:Gr. 38-39 
UID:myauktion-7649-2440978
BEGIN:VALARM
ACTION:DISPLAY
DESCRIPTION:Gr. 38-39 
TRIGGER:-PT10M
END:VALARM
END:VEVENT
END:VCALENDAR