BEGIN:VCALENDAR
VERSION:2.0
PRODID:-//Goldgrube//myauktion.com//AT
CALSCALE:GREGORIAN
BEGIN:VEVENT
DTSTART:20260504T095900
DTEND:20260504T095930
LOCATION:Gewerbepark 13, 8562 Mooskirchen
DTSTAMP:20260421T003833
SUMMARY:MyAuktion: Ablauf Artikel Nr. 956802 Konstant Konnex S3 Sicherheits-Hochschuh mit Stahlkappe 
URL;VALUE=URI:https://www.myauktion.com/versteigerung7649-position2440983-konstant-konnex-s3-sicherheits-hochschuh-mit-stahlkappe.php
DESCRIPTION:Gr. 45 
UID:myauktion-7649-2440983
BEGIN:VALARM
ACTION:DISPLAY
DESCRIPTION:Gr. 45 
TRIGGER:-PT10M
END:VALARM
END:VEVENT
END:VCALENDAR