BEGIN:VCALENDAR
VERSION:2.0
PRODID:-//Goldgrube//myauktion.com//AT
CALSCALE:GREGORIAN
BEGIN:VEVENT
DTSTART:20260504T101100
DTEND:20260504T101130
LOCATION:Gewerbepark 13, 8562 Mooskirchen
DTSTAMP:20260421T003831
SUMMARY:MyAuktion: Ablauf Artikel Nr. 956813 Philippe Model Schuhe 
URL;VALUE=URI:https://www.myauktion.com/versteigerung7649-position2440989-philippe-model-schuhe.php
DESCRIPTION:Gr. 47 
UID:myauktion-7649-2440989
BEGIN:VALARM
ACTION:DISPLAY
DESCRIPTION:Gr. 47 
TRIGGER:-PT10M
END:VALARM
END:VEVENT
END:VCALENDAR