BEGIN:VCALENDAR
VERSION:2.0
PRODID:-//Goldgrube//myauktion.com//AT
CALSCALE:GREGORIAN
BEGIN:VEVENT
DTSTART:20260504T100300
DTEND:20260504T100330
LOCATION:Gewerbepark 13, 8562 Mooskirchen
DTSTAMP:20260421T001935
SUMMARY:MyAuktion: Ablauf Artikel Nr. 956804 Epica Gheata Damen Stiefelette
URL;VALUE=URI:https://www.myauktion.com/versteigerung7649-position2440992-epica-gheata-damen-stiefelette.php
DESCRIPTION:Gr. 40 
UID:myauktion-7649-2440992
BEGIN:VALARM
ACTION:DISPLAY
DESCRIPTION:Gr. 40 
TRIGGER:-PT10M
END:VALARM
END:VEVENT
END:VCALENDAR