BEGIN:VCALENDAR
VERSION:2.0
PRODID:-//Goldgrube//myauktion.com//AT
CALSCALE:GREGORIAN
BEGIN:VEVENT
DTSTART:20260504T100700
DTEND:20260504T100730
LOCATION:Gewerbepark 13, 8562 Mooskirchen
DTSTAMP:20260421T001934
SUMMARY:MyAuktion: Ablauf Artikel Nr. 956805 Epica Gheata Damen Stiefelette
URL;VALUE=URI:https://www.myauktion.com/versteigerung7649-position2440993-epica-gheata-damen-stiefelette.php
DESCRIPTION:Gr. 41 
UID:myauktion-7649-2440993
BEGIN:VALARM
ACTION:DISPLAY
DESCRIPTION:Gr. 41 
TRIGGER:-PT10M
END:VALARM
END:VEVENT
END:VCALENDAR