BEGIN:VCALENDAR
VERSION:2.0
PRODID:-//Goldgrube//myauktion.com//AT
CALSCALE:GREGORIAN
BEGIN:VEVENT
DTSTART:20260504T152700
DTEND:20260504T152730
LOCATION:Gewerbepark 13, 8562 Mooskirchen
DTSTAMP:20260421T003833
SUMMARY:MyAuktion: Ablauf Artikel Nr. 957051 Versele Laga Menu Nature Samen Mix 20Kg
URL;VALUE=URI:https://www.myauktion.com/versteigerung7650-position2441096-versele-laga-menu-nature-samen-mix-20kg.php
DESCRIPTION:MHD: 01.10.2026
UID:myauktion-7650-2441096
BEGIN:VALARM
ACTION:DISPLAY
DESCRIPTION:MHD: 01.10.2026
TRIGGER:-PT10M
END:VALARM
END:VEVENT
END:VCALENDAR