BEGIN:VCALENDAR
VERSION:2.0
PRODID:-//Goldgrube//myauktion.com//AT
CALSCALE:GREGORIAN
BEGIN:VEVENT
DTSTART:20260504T152800
DTEND:20260504T152830
LOCATION:Gewerbepark 13, 8562 Mooskirchen
DTSTAMP:20260420T194905
SUMMARY:MyAuktion: Ablauf Artikel Nr. 957052 Purina Felix Emincés Original in Gelee, 120×85g
URL;VALUE=URI:https://www.myauktion.com/versteigerung7650-position2441097-purina-felix-eminces-original-in-gelee-12085g.php
DESCRIPTION:MHD: 07/2027, verpackung beschmutzt
UID:myauktion-7650-2441097
BEGIN:VALARM
ACTION:DISPLAY
DESCRIPTION:MHD: 07/2027, verpackung beschmutzt
TRIGGER:-PT10M
END:VALARM
END:VEVENT
END:VCALENDAR